BEGIN:VCALENDAR
VERSION:2.0
PRODID:-//Achlia Kreta - ECPv6.3.3.1//NONSGML v1.0//EN
CALSCALE:GREGORIAN
METHOD:PUBLISH
X-WR-CALNAME:Achlia Kreta
X-ORIGINAL-URL:http://achlia.com
X-WR-CALDESC:Veranstaltungen für Achlia Kreta
REFRESH-INTERVAL;VALUE=DURATION:PT1H
X-Robots-Tag:noindex
X-PUBLISHED-TTL:PT1H
BEGIN:VTIMEZONE
TZID:UTC
BEGIN:STANDARD
TZOFFSETFROM:+0000
TZOFFSETTO:+0000
TZNAME:UTC
DTSTART:20250101T000000
END:STANDARD
END:VTIMEZONE
BEGIN:VEVENT
DTSTART;VALUE=DATE:20250906
DTEND;VALUE=DATE:20250922
DTSTAMP:20260425T125911
CREATED:20250112T172055Z
LAST-MODIFIED:20250112T172055Z
UID:441-1757116800-1758499199@achlia.com
SUMMARY:GG
DESCRIPTION:
URL:http://achlia.com/event/gg-4
LOCATION:MK\, Mavros K\, Griechenland
END:VEVENT
END:VCALENDAR