BEGIN:VCALENDAR
VERSION:2.0
PRODID:-//Achlia Kreta - ECPv6.3.3.1//NONSGML v1.0//EN
CALSCALE:GREGORIAN
METHOD:PUBLISH
X-ORIGINAL-URL:http://achlia.com
X-WR-CALDESC:Veranstaltungen für Achlia Kreta
REFRESH-INTERVAL;VALUE=DURATION:PT1H
X-Robots-Tag:noindex
X-PUBLISHED-TTL:PT1H
BEGIN:VTIMEZONE
TZID:UTC
BEGIN:STANDARD
TZOFFSETFROM:+0000
TZOFFSETTO:+0000
TZNAME:UTC
DTSTART:20260101T000000
END:STANDARD
END:VTIMEZONE
BEGIN:VEVENT
DTSTART;VALUE=DATE:20261001
DTEND;VALUE=DATE:20261006
DTSTAMP:20260419T133638
CREATED:20260125T165612Z
LAST-MODIFIED:20260125T165612Z
UID:463-1790812800-1791244799@achlia.com
SUMMARY:MG
DESCRIPTION:
URL:http://achlia.com/event/mg-2
LOCATION:MK\, Mavros K\, Griechenland
END:VEVENT
END:VCALENDAR